BEGIN:VCALENDAR
VERSION:2.0
PRODID:-//Lenovo Benefits - ECPv6.15.17.1//NONSGML v1.0//EN
CALSCALE:GREGORIAN
METHOD:PUBLISH
X-WR-CALNAME:Lenovo Benefits
X-ORIGINAL-URL:https://www.lenovobenefits.com
X-WR-CALDESC:Events for Lenovo Benefits
REFRESH-INTERVAL;VALUE=DURATION:PT1H
X-Robots-Tag:noindex
X-PUBLISHED-TTL:PT1H
BEGIN:VTIMEZONE
TZID:America/New_York
BEGIN:DAYLIGHT
TZOFFSETFROM:-0500
TZOFFSETTO:-0400
TZNAME:EDT
DTSTART:20250309T070000
END:DAYLIGHT
BEGIN:STANDARD
TZOFFSETFROM:-0400
TZOFFSETTO:-0500
TZNAME:EST
DTSTART:20251102T060000
END:STANDARD
BEGIN:DAYLIGHT
TZOFFSETFROM:-0500
TZOFFSETTO:-0400
TZNAME:EDT
DTSTART:20260308T070000
END:DAYLIGHT
BEGIN:STANDARD
TZOFFSETFROM:-0400
TZOFFSETTO:-0500
TZNAME:EST
DTSTART:20261101T060000
END:STANDARD
BEGIN:DAYLIGHT
TZOFFSETFROM:-0500
TZOFFSETTO:-0400
TZNAME:EDT
DTSTART:20270314T070000
END:DAYLIGHT
BEGIN:STANDARD
TZOFFSETFROM:-0400
TZOFFSETTO:-0500
TZNAME:EST
DTSTART:20271107T060000
END:STANDARD
END:VTIMEZONE
BEGIN:VEVENT
DTSTART;TZID=America/New_York:20260513T120000
DTEND;TZID=America/New_York:20260513T130000
DTSTAMP:20260423T071329
CREATED:20260415T133236Z
LAST-MODIFIED:20260415T133811Z
UID:13773-1778673600-1778677200@www.lenovobenefits.com
SUMMARY:Women's Health Benefits Fair
DESCRIPTION:You’re invited to our Women’s Health Benefits Fair! Meet with vendors including WIN Fertility (offering more than fertility services)\, Hello Heart\, EXOS\, Cigna\, Marathon Health\, and Fidelity\, as well as Lenovo ERGs MINT\, FEEL\, WILL\, and LIFT. Stop by for giveaways\, raffles\, and comprehensive benefits information to support your health and well-being.
URL:https://www.lenovobenefits.com/events/womens-health-benefits-fair/
LOCATION:Morrisville\, B6 Hallway
CATEGORIES:Mental health,Personal and family,Physical health
END:VEVENT
BEGIN:VEVENT
DTSTART;TZID=America/New_York:20260513T130000
DTEND;TZID=America/New_York:20260513T140000
DTSTAMP:20260423T071329
CREATED:20260415T135750Z
LAST-MODIFIED:20260415T135958Z
UID:13777-1778677200-1778680800@www.lenovobenefits.com
SUMMARY:Empowering Women’s Health Through the Eras
DESCRIPTION:Join Marathon Health and WIN Fertility for an this hybrid event celebrating Women’s Health Month! Get a better understanding of your cycle\, fertility\, and long‑term health\, including peri-menopause. There will be raffles and giveaways in person.
URL:https://www.lenovobenefits.com/events/empowering-womens-health-through-the-eras/
LOCATION:Morrisville; Building 6\, Training Room
CATEGORIES:Personal and family,Physical health
END:VEVENT
BEGIN:VEVENT
DTSTART;TZID=America/New_York:20260520T120000
DTEND;TZID=America/New_York:20260520T130000
DTSTAMP:20260423T071329
CREATED:20260415T140442Z
LAST-MODIFIED:20260415T140701Z
UID:13780-1779278400-1779282000@www.lenovobenefits.com
SUMMARY:Successful Scholarship Strategies
DESCRIPTION:Join as we streamline the scholarship search process\, teach you how to make best use of your time\, capitalize on your child’s strengths\, and increase your chances of scholarship success.
URL:https://www.lenovobenefits.com/events/successful-scholarship-strategies/
LOCATION:Webinar
CATEGORIES:Personal and family
END:VEVENT
BEGIN:VEVENT
DTSTART;TZID=America/New_York:20260520T150000
DTEND;TZID=America/New_York:20260520T160000
DTSTAMP:20260423T071329
CREATED:20260331T141337Z
LAST-MODIFIED:20260331T141541Z
UID:13753-1779289200-1779292800@www.lenovobenefits.com
SUMMARY:Nurturing New Beginnings: An Exploration of Doula and Newborn Care
DESCRIPTION:Delve into the role of doulas and essential newborn care in this nurturing session. Expectant parents and caregivers gain practical insights into doula support\, newborn needs\, and how to approach this exciting life chapter with confidence.
URL:https://www.lenovobenefits.com/events/nurturing-new-beginnings-an-exploration-of-doula-and-newborn-care/
LOCATION:Webinar
CATEGORIES:Personal and family
END:VEVENT
END:VCALENDAR