BEGIN:VCALENDAR
VERSION:2.0
PRODID:-//Lenovo Benefits - ECPv6.15.17.1//NONSGML v1.0//EN
CALSCALE:GREGORIAN
METHOD:PUBLISH
X-ORIGINAL-URL:https://www.lenovobenefits.com
X-WR-CALDESC:Events for Lenovo Benefits
REFRESH-INTERVAL;VALUE=DURATION:PT1H
X-Robots-Tag:noindex
X-PUBLISHED-TTL:PT1H
BEGIN:VTIMEZONE
TZID:America/New_York
BEGIN:DAYLIGHT
TZOFFSETFROM:-0500
TZOFFSETTO:-0400
TZNAME:EDT
DTSTART:20250309T070000
END:DAYLIGHT
BEGIN:STANDARD
TZOFFSETFROM:-0400
TZOFFSETTO:-0500
TZNAME:EST
DTSTART:20251102T060000
END:STANDARD
BEGIN:DAYLIGHT
TZOFFSETFROM:-0500
TZOFFSETTO:-0400
TZNAME:EDT
DTSTART:20260308T070000
END:DAYLIGHT
BEGIN:STANDARD
TZOFFSETFROM:-0400
TZOFFSETTO:-0500
TZNAME:EST
DTSTART:20261101T060000
END:STANDARD
BEGIN:DAYLIGHT
TZOFFSETFROM:-0500
TZOFFSETTO:-0400
TZNAME:EDT
DTSTART:20270314T070000
END:DAYLIGHT
BEGIN:STANDARD
TZOFFSETFROM:-0400
TZOFFSETTO:-0500
TZNAME:EST
DTSTART:20271107T060000
END:STANDARD
END:VTIMEZONE
BEGIN:VEVENT
DTSTART;TZID=America/New_York:20260506T140000
DTEND;TZID=America/New_York:20260506T150000
DTSTAMP:20260420T100323
CREATED:20260331T140000Z
LAST-MODIFIED:20260331T140202Z
UID:13747-1778076000-1778079600@www.lenovobenefits.com
SUMMARY:Mental Health: Let's Talk About It*
DESCRIPTION:Mental health issues are often hidden in the shadow of stigma. We’ll shed lighton the realities and discuss how to offer support.
URL:https://www.lenovobenefits.com/events/mental-health-lets-talk-about-it/
LOCATION:Webinar
CATEGORIES:Mental health
END:VEVENT
BEGIN:VEVENT
DTSTART;TZID=America/New_York:20260513T120000
DTEND;TZID=America/New_York:20260513T130000
DTSTAMP:20260420T100323
CREATED:20260415T133236Z
LAST-MODIFIED:20260415T133811Z
UID:13773-1778673600-1778677200@www.lenovobenefits.com
SUMMARY:Women's Health Benefits Fair
DESCRIPTION:You’re invited to our Women’s Health Benefits Fair! Meet with vendors including WIN Fertility (offering more than fertility services)\, Hello Heart\, EXOS\, Cigna\, Marathon Health\, and Fidelity\, as well as Lenovo ERGs MINT\, FEEL\, WILL\, and LIFT. Stop by for giveaways\, raffles\, and comprehensive benefits information to support your health and well-being.
URL:https://www.lenovobenefits.com/events/womens-health-benefits-fair/
LOCATION:Morrisville\, B6 Hallway
CATEGORIES:Mental health,Personal and family,Physical health
END:VEVENT
END:VCALENDAR