BEGIN:VCALENDAR
VERSION:2.0
PRODID:-//Lenovo Benefits - ECPv6.15.17.1//NONSGML v1.0//EN
CALSCALE:GREGORIAN
METHOD:PUBLISH
X-WR-CALNAME:Lenovo Benefits
X-ORIGINAL-URL:https://www.lenovobenefits.com
X-WR-CALDESC:Events for Lenovo Benefits
REFRESH-INTERVAL;VALUE=DURATION:PT1H
X-Robots-Tag:noindex
X-PUBLISHED-TTL:PT1H
BEGIN:VTIMEZONE
TZID:America/New_York
BEGIN:DAYLIGHT
TZOFFSETFROM:-0500
TZOFFSETTO:-0400
TZNAME:EDT
DTSTART:20250309T070000
END:DAYLIGHT
BEGIN:STANDARD
TZOFFSETFROM:-0400
TZOFFSETTO:-0500
TZNAME:EST
DTSTART:20251102T060000
END:STANDARD
BEGIN:DAYLIGHT
TZOFFSETFROM:-0500
TZOFFSETTO:-0400
TZNAME:EDT
DTSTART:20260308T070000
END:DAYLIGHT
BEGIN:STANDARD
TZOFFSETFROM:-0400
TZOFFSETTO:-0500
TZNAME:EST
DTSTART:20261101T060000
END:STANDARD
BEGIN:DAYLIGHT
TZOFFSETFROM:-0500
TZOFFSETTO:-0400
TZNAME:EDT
DTSTART:20270314T070000
END:DAYLIGHT
BEGIN:STANDARD
TZOFFSETFROM:-0400
TZOFFSETTO:-0500
TZNAME:EST
DTSTART:20271107T060000
END:STANDARD
END:VTIMEZONE
BEGIN:VEVENT
DTSTART;TZID=America/New_York:20260422T140000
DTEND;TZID=America/New_York:20260422T150000
DTSTAMP:20260422T062039
CREATED:20260217T213307Z
LAST-MODIFIED:20260217T213520Z
UID:13675-1776866400-1776870000@www.lenovobenefits.com
SUMMARY:Stress Relief: Train Your Brain*
DESCRIPTION:A high-alert stress response that stays “on” can tie us in knots. Try science backed techniques that can rewire a calmer response. English & Spanish
URL:https://www.lenovobenefits.com/events/stress-relief-train-your-brain/
LOCATION:Webinar
CATEGORIES:Mental health
END:VEVENT
BEGIN:VEVENT
DTSTART;TZID=America/New_York:20260422T150000
DTEND;TZID=America/New_York:20260422T160000
DTSTAMP:20260422T062039
CREATED:20260217T213838Z
LAST-MODIFIED:20260217T214105Z
UID:13677-1776870000-1776873600@www.lenovobenefits.com
SUMMARY:National Infertility Awareness Week: Inclusive Pathways: LGBTQIA+ Fertility Journeys
DESCRIPTION:Join us for an inclusive and informative session dedicated to exploring diverse pathways to family-building within the LGBTQIA+ community.
URL:https://www.lenovobenefits.com/events/national-infertility-awareness-week-inclusive-pathways-lgbtqia-fertility-journeys/
LOCATION:Webinar
CATEGORIES:Personal and family
END:VEVENT
END:VCALENDAR